BEGIN:VCALENDAR
VERSION:2.0
PRODID:-//Tukios.com/
BEGIN:VEVENT
UID:238114e0-0599-4421-a449-cb5ff0e057d1@www.lucasandsonfh.com
DTSTAMP:20260420T231057Z
DTSTART:20260423T180000Z
DTEND:20260423T190000Z
SUMMARY:Burial
DESCRIPTION:
URL:https://www.lucasandsonfh.com/obituaries/vivian-childers
LOCATION: 4964 Chloe Road  Pikeville KY 41501
GEO:37.4347034;-82.4821608
END:VEVENT
END:VCALENDAR