BEGIN:VCALENDAR
VERSION:2.0
PRODID:-//Tukios.com/
BEGIN:VEVENT
UID:feb1919b-21fc-4f60-b126-2a2ecd54b1cd@www.lucasandsonfh.com
DTSTAMP:20260420T231321Z
DTSTART:20260423T170000Z
DTEND:20260423T180000Z
SUMMARY:Funeral Service
DESCRIPTION:
URL:https://www.lucasandsonfh.com/obituaries/vivian-childers
LOCATION: 2931 US Highway 23 S  Pikeville KY 41501
GEO:37.4809888;-82.5434732
END:VEVENT
END:VCALENDAR