BEGIN:VCALENDAR
VERSION:2.0
PRODID:-//Tukios.com/
BEGIN:VEVENT
UID:f4ae5250-0b85-4f2b-8395-684a0f93400b@www.lucasandsonfh.com
DTSTAMP:20260420T231159Z
DTSTART:20260422T130000Z
DTEND:20260423T030000Z
SUMMARY:Visitation
DESCRIPTION:Special services at 7 PM
URL:https://www.lucasandsonfh.com/obituaries/vivian-childers
LOCATION: 2931 US Highway 23 S  Pikeville KY 41501
GEO:37.4809888;-82.5434732
END:VEVENT
END:VCALENDAR