BEGIN:VCALENDAR
VERSION:2.0
PRODID:-//Tukios.com/
BEGIN:VEVENT
UID:931b7fe6-3ea2-4ec3-b90e-56ffb1b3c26b@www.lucasandsonfh.com
DTSTAMP:20260420T230745Z
DTSTART:20260421T220000Z
DTEND:20260422T030000Z
SUMMARY:Visitation
DESCRIPTION:
URL:https://www.lucasandsonfh.com/obituaries/vivian-childers
LOCATION: 2931 US Highway 23 S  Pikeville KY 41501
GEO:37.4809888;-82.5434732
END:VEVENT
END:VCALENDAR