BEGIN:VCALENDAR
VERSION:2.0
PRODID:-//Tukios.com/
BEGIN:VEVENT
UID:a3de9689-06b5-46b3-8a7a-f0063ff9e1dc@www.lucasandsonfh.com
DTSTAMP:20260422T225430Z
DTSTART:20260425T160000Z
DTEND:20260425T170000Z
SUMMARY:Funeral Service
DESCRIPTION:
URL:https://www.lucasandsonfh.com/obituaries/jeanetta-mullins
LOCATION: U.S. 23  Pikeville KY 
GEO:37.4823139;-82.5435511
END:VEVENT
END:VCALENDAR