BEGIN:VCALENDAR
VERSION:2.0
PRODID:-//Tukios.com/
BEGIN:VEVENT
UID:23a3ab83-cf1a-4f08-af3c-19a2b47bc3d7@www.lucasandsonfh.com
DTSTAMP:20260422T225527Z
DTSTART:20260423T220000Z
DTEND:20260423T230000Z
SUMMARY:Visitation
DESCRIPTION:
URL:https://www.lucasandsonfh.com/obituaries/jeanetta-mullins
LOCATION: U.S. 23  Pikeville KY 
GEO:37.4823139;-82.5435511
END:VEVENT
END:VCALENDAR